BEGIN:VCALENDAR
VERSION:2.0
PRODID:-//www.mind-builders.org//NONSGML kigkonsult.se iCalcreator 2.30.10/
 /
CALSCALE:GREGORIAN
METHOD:PUBLISH
UID:1ec7a9f2-e9cb-4cb5-9282-bbbfe261bce7
X-WR-CALDESC:
X-WR-RELCALID:22b72135de7adf0c8b610e8bd66c94ec
X-WR-TIMEZONE:America/New_York
BEGIN:VTIMEZONE
TZID:America/New_York
BEGIN:STANDARD
TZNAME:EST
DTSTART:20211107T020000
TZOFFSETFROM:-0400
TZOFFSETTO:-0500
RDATE:20221106T020000
RDATE:20231105T020000
END:STANDARD
BEGIN:DAYLIGHT
TZNAME:EDT
DTSTART:20220313T020000
TZOFFSETFROM:-0500
TZOFFSETTO:-0400
RDATE:20230312T020000
END:DAYLIGHT
END:VTIMEZONE
BEGIN:VEVENT
UID:1d5565c5-21e0-4942-ad91-1a681e81573d
DTSTAMP:20260422T203658Z
DESCRIPTION:
DTSTART;TZID=America/New_York:20220821T000000
DTEND;TZID=America/New_York:20220828T235900
LOCATION:
SUMMARY:Office Closed
END:VEVENT
END:VCALENDAR
