BEGIN:VCALENDAR
VERSION:2.0
PRODID:-//www.mind-builders.org//NONSGML kigkonsult.se iCalcreator 2.30.10/
 /
CALSCALE:GREGORIAN
METHOD:PUBLISH
UID:e17484f3-120f-4d0d-afe5-2db8d079172e
X-WR-CALDESC:Join us for music and dance demos\n\nLight snacks will be serv
 ed!
X-WR-RELCALID:e08f87a96e8ac2080545e186fddafb6d
X-WR-TIMEZONE:America/New_York
BEGIN:VTIMEZONE
TZID:America/New_York
BEGIN:STANDARD
TZNAME:EST
DTSTART:20211107T020000
TZOFFSETFROM:-0400
TZOFFSETTO:-0500
RDATE:20221106T020000
RDATE:20231105T020000
END:STANDARD
BEGIN:DAYLIGHT
TZNAME:EDT
DTSTART:20220313T020000
TZOFFSETFROM:-0500
TZOFFSETTO:-0400
RDATE:20230312T020000
END:DAYLIGHT
END:VTIMEZONE
BEGIN:VEVENT
UID:eae373c5-f0b8-456a-a626-0efbd23e6ba5
DTSTAMP:20260425T172610Z
DESCRIPTION:Join us for music and dance demos\n\nLight snacks will be serve
 d!
DTSTART;TZID=America/New_York:20220608T140000
DTEND;TZID=America/New_York:20220608T160000
LOCATION:
SUMMARY:Open House
END:VEVENT
END:VCALENDAR
