BEGIN:VCALENDAR
VERSION:2.0
PRODID:-//www.mind-builders.org//NONSGML kigkonsult.se iCalcreator 2.30.10/
 /
CALSCALE:GREGORIAN
METHOD:PUBLISH
UID:95585205-ba8b-4323-8deb-5d49e89507a9
X-WR-CALDESC:There will be no classes during the Holiday Break.  Classes wi
 ll resume Tuesday\, January 7th.
X-WR-RELCALID:7643531016c02f9d92d83f93e480d56f
X-WR-TIMEZONE:America/New_York
BEGIN:VTIMEZONE
TZID:America/New_York
BEGIN:STANDARD
TZNAME:EST
DTSTART:20191103T020000
TZOFFSETFROM:-0400
TZOFFSETTO:-0500
RDATE:20201101T020000
END:STANDARD
BEGIN:DAYLIGHT
TZNAME:EDT
DTSTART:20190310T020000
TZOFFSETFROM:-0500
TZOFFSETTO:-0400
RDATE:20200308T020000
RDATE:20210314T020000
END:DAYLIGHT
END:VTIMEZONE
BEGIN:VEVENT
UID:50c5b73d-029a-4b00-be60-be1d2fa4bcc5
DTSTAMP:20260421T023054Z
DESCRIPTION:There will be no classes during the Holiday Break.  Classes wil
 l resume Tuesday\, January 7th.
DTSTART;TZID=America/New_York:20191224T150000
DTEND;TZID=America/New_York:20200106T190000
LOCATION:
SUMMARY:NO CLASSES (Holiday Break)
END:VEVENT
END:VCALENDAR
