BEGIN:VCALENDAR
VERSION:2.0
PRODID:-//www.mind-builders.org//NONSGML kigkonsult.se iCalcreator 2.30.10/
 /
CALSCALE:GREGORIAN
METHOD:PUBLISH
UID:881a8954-4590-414b-af2d-92503afdc85b
X-WR-CALDESC:
X-WR-RELCALID:600e685e7d10354d93b8adc9bbfeaf8d
X-WR-TIMEZONE:America/New_York
BEGIN:VTIMEZONE
TZID:America/New_York
BEGIN:STANDARD
TZNAME:EST
DTSTART:20181104T020000
TZOFFSETFROM:-0400
TZOFFSETTO:-0500
RDATE:20191103T020000
RDATE:20201101T020000
END:STANDARD
BEGIN:DAYLIGHT
TZNAME:EDT
DTSTART:20190310T020000
TZOFFSETFROM:-0500
TZOFFSETTO:-0400
RDATE:20200308T020000
END:DAYLIGHT
END:VTIMEZONE
BEGIN:VEVENT
UID:37cfc016-ff11-47f1-b729-3dd9d8199223
DTSTAMP:20260419T173553Z
DESCRIPTION:
DTSTART;TZID=America/New_York:20190518T000000
DTEND;TZID=America/New_York:20190518T235900
LOCATION:
SUMMARY:PYT Recital at 7PM at Mind-Builders
END:VEVENT
END:VCALENDAR
