BEGIN:VCALENDAR
VERSION:2.0
PRODID:-//www.mind-builders.org//NONSGML kigkonsult.se iCalcreator 2.30.10/
 /
CALSCALE:GREGORIAN
METHOD:PUBLISH
UID:775d101d-7dda-4532-8f90-98e04b090347
X-WR-CALDESC:
X-WR-RELCALID:01de0c4d5fc144c8fa3365586ef93b72
X-WR-TIMEZONE:America/New_York
BEGIN:VTIMEZONE
TZID:America/New_York
BEGIN:STANDARD
TZNAME:EST
DTSTART:20251102T020000
TZOFFSETFROM:-0400
TZOFFSETTO:-0500
RDATE:20261101T020000
RDATE:20271107T020000
END:STANDARD
BEGIN:DAYLIGHT
TZNAME:EDT
DTSTART:20260308T020000
TZOFFSETFROM:-0500
TZOFFSETTO:-0400
RDATE:20270314T020000
END:DAYLIGHT
END:VTIMEZONE
BEGIN:VEVENT
UID:53821d9f-7c26-48d5-bad4-f8dd502c7d43
DTSTAMP:20260425T152604Z
DESCRIPTION:
DTSTART;TZID=America/New_York:20260509T060000
DTEND;TZID=America/New_York:20260509T060001
LOCATION:New Jersey
SUMMARY:Music in the Parks (Stage Band Competition)
END:VEVENT
END:VCALENDAR
