BEGIN:VCALENDAR
VERSION:2.0
PRODID:-//www.mind-builders.org//NONSGML kigkonsult.se iCalcreator 2.30.10/
 /
CALSCALE:GREGORIAN
METHOD:PUBLISH
UID:41dc0682-263c-47b6-a254-22df12c26cfe
X-WR-CALDESC:
X-WR-RELCALID:798a7eacb32eb334ee6a73324d11bb6f
X-WR-TIMEZONE:America/New_York
BEGIN:VTIMEZONE
TZID:America/New_York
BEGIN:STANDARD
TZNAME:EST
DTSTART:20251102T020000
TZOFFSETFROM:-0400
TZOFFSETTO:-0500
RDATE:20261101T020000
END:STANDARD
BEGIN:DAYLIGHT
TZNAME:EDT
DTSTART:20260308T020000
TZOFFSETFROM:-0500
TZOFFSETTO:-0400
RDATE:20270314T020000
END:DAYLIGHT
END:VTIMEZONE
BEGIN:VEVENT
UID:eabe8184-38df-4fe7-a41c-98e25a4f8620
DTSTAMP:20260425T162147Z
DESCRIPTION:
DTSTART;TZID=America/New_York:20260507T060000
DTEND;TZID=America/New_York:20260507T060001
LOCATION:Mind-Builders Creative Arts Center
SUMMARY:Folk Culture Final Class
END:VEVENT
END:VCALENDAR
