BEGIN:VCALENDAR
VERSION:2.0
PRODID:-//www.mind-builders.org//NONSGML kigkonsult.se iCalcreator 2.30.10/
 /
CALSCALE:GREGORIAN
METHOD:PUBLISH
UID:e40f92d9-a84f-43c1-8d5b-8cc15cebc2c4
X-WR-CALDESC:Parents and friends of Mind-Builders Martial Arts Program are 
 invited to witness this year-end demonstration\, highlighting the techniqu
 es\, exercises and skills students have honed throughout the year. Come ce
 lebrate their achievements in self-discipline\, strength\, and practice!\n
 \nThis is a FREE event! \n\nClick the link below to RSVP
X-WR-RELCALID:993a0a61005e1a75de4efc6bc9402b6c
X-WR-TIMEZONE:America/New_York
BEGIN:VTIMEZONE
TZID:America/New_York
BEGIN:STANDARD
TZNAME:EST
DTSTART:20241103T020000
TZOFFSETFROM:-0400
TZOFFSETTO:-0500
RDATE:20251102T020000
END:STANDARD
BEGIN:DAYLIGHT
TZNAME:EDT
DTSTART:20250309T020000
TZOFFSETFROM:-0500
TZOFFSETTO:-0400
RDATE:20260308T020000
END:DAYLIGHT
END:VTIMEZONE
BEGIN:VEVENT
UID:e9c9ec33-c7dc-4f58-bcc6-cd6ef06f675e
DTSTAMP:20260419T191505Z
DESCRIPTION:Parents and friends of Mind-Builders Martial Arts Program are i
 nvited to witness this year-end demonstration\, highlighting the technique
 s\, exercises and skills students have honed throughout the year. Come cel
 ebrate their achievements in self-discipline\, strength\, and practice!\n
 \nThis is a FREE event! \n\nClick the link below to RSVP
DTSTART;TZID=America/New_York:20250426T140000
DTEND;TZID=America/New_York:20250426T153000
LOCATION:PS 41 - Gymnasium: 3352 Olinville Avenue\, Bronx NY 10467
SUMMARY:Martial Arts Year-End Demonstration
END:VEVENT
END:VCALENDAR
