BEGIN:VCALENDAR
VERSION:2.0
PRODID:-//www.mind-builders.org//NONSGML kigkonsult.se iCalcreator 2.30.10/
 /
CALSCALE:GREGORIAN
METHOD:PUBLISH
UID:c25dda0a-234d-483e-b25a-19476bad668e
X-WR-CALDESC:Join us for 'Reclaim Your Space: Finding Ease\, Joy\, and Self
 -Care Through Mindfulness\,' a workshop designed for teens to explore the 
 power of mindfulness in their everyday lives. \n\nThrough interactive acti
 vities\, discussions\, and creative exercises\, led by multi-talented well
 ness practitioner\, Janay Jacobs\, you’ll learn how to create a personal s
 anctuary—both mentally and physically. \n\nDiscover techniques to reduce s
 tress\, boost self-esteem\, and embrace joy\, while connecting with peers 
 in a supportive environment. Plus\, enjoy delicious snacks as you nourish 
 both your body and mind.\n\nTake the first step towards prioritizing your 
 well-being and reclaiming your space!\n\n*Please note a signed permission 
 slip is required for Teen Talk Workshops*
X-WR-RELCALID:fc95045249aa390c08e587be0f36206e
X-WR-TIMEZONE:America/New_York
BEGIN:VTIMEZONE
TZID:America/New_York
BEGIN:STANDARD
TZNAME:EST
DTSTART:20241103T020000
TZOFFSETFROM:-0400
TZOFFSETTO:-0500
RDATE:20251102T020000
END:STANDARD
BEGIN:DAYLIGHT
TZNAME:EDT
DTSTART:20240310T020000
TZOFFSETFROM:-0500
TZOFFSETTO:-0400
RDATE:20250309T020000
RDATE:20260308T020000
END:DAYLIGHT
END:VTIMEZONE
BEGIN:VEVENT
UID:15abe082-3db9-4ff5-8610-f381cbadaa6a
DTSTAMP:20260420T025147Z
DESCRIPTION:Join us for 'Reclaim Your Space: Finding Ease\, Joy\, and Self-
 Care Through Mindfulness\,' a workshop designed for teens to explore the p
 ower of mindfulness in their everyday lives. \n\nThrough interactive activ
 ities\, discussions\, and creative exercises\, led by multi-talented welln
 ess practitioner\, Janay Jacobs\, you’ll learn how to create a personal sa
 nctuary—both mentally and physically. \n\nDiscover techniques to reduce st
 ress\, boost self-esteem\, and embrace joy\, while connecting with peers i
 n a supportive environment. Plus\, enjoy delicious snacks as you nourish b
 oth your body and mind.\n\nTake the first step towards prioritizing your w
 ell-being and reclaiming your space!\n\n*Please note a signed permission s
 lip is required for Teen Talk Workshops*
DTSTART;TZID=America/New_York:20241116T140000
DTEND;TZID=America/New_York:20241116T150000
LOCATION:
SUMMARY:Teen Talk Workshop: Reclaim Your Space!
END:VEVENT
END:VCALENDAR
