BEGIN:VCALENDAR
VERSION:2.0
PRODID:-//www.mind-builders.org//NONSGML kigkonsult.se iCalcreator 2.30.10/
 /
CALSCALE:GREGORIAN
METHOD:PUBLISH
UID:988df8d3-08c8-4458-8cb7-920c78a4a592
X-WR-CALDESC:Last day of Pre-K before the break is February 16th and the la
 st day of afterschool programs/Saturday classes is February 17th. Pre-K an
 d all classes will resume on February 26th. Have a great mid-winter recess
 ! Makeup classes and events will occur during the break.
X-WR-RELCALID:99782029293156fd64d3aa80e7b7b77b
X-WR-TIMEZONE:America/New_York
BEGIN:VTIMEZONE
TZID:America/New_York
BEGIN:STANDARD
TZNAME:EST
DTSTART:20231105T020000
TZOFFSETFROM:-0400
TZOFFSETTO:-0500
RDATE:20241103T020000
END:STANDARD
BEGIN:DAYLIGHT
TZNAME:EDT
DTSTART:20230312T020000
TZOFFSETFROM:-0500
TZOFFSETTO:-0400
RDATE:20240310T020000
RDATE:20250309T020000
END:DAYLIGHT
END:VTIMEZONE
BEGIN:VEVENT
UID:94fec1da-c6ff-45fc-807b-03c35e90e15b
DTSTAMP:20260424T190258Z
DESCRIPTION:Last day of Pre-K before the break is February 16th and the las
 t day of afterschool programs/Saturday classes is February 17th. Pre-K and
  all classes will resume on February 26th. Have a great mid-winter recess!
  Makeup classes and events will occur during the break.
DTSTART;TZID=America/New_York:20240219T060000
DTEND;TZID=America/New_York:20240224T060001
LOCATION:
SUMMARY:Winter Recess: NO CLASSES
END:VEVENT
END:VCALENDAR
