BEGIN:VCALENDAR
VERSION:2.0
PRODID:-//www.mind-builders.org//NONSGML kigkonsult.se iCalcreator 2.30.10/
 /
CALSCALE:GREGORIAN
METHOD:PUBLISH
UID:99b4feb5-7304-43a7-9778-cac9ffb9a11f
X-WR-CALDESC:Experience the high vibrations of Soca Synergy! An exciting da
 nce fitness class where Soca music meets Afro-Caribbean-inspired choreogra
 phy that will get you moving. This FREE class is for ages 16+ and is open 
 to all levels.
X-WR-RELCALID:eb09ae7a1272163fb0f26490b7ff2998
X-WR-TIMEZONE:America/New_York
BEGIN:VTIMEZONE
TZID:America/New_York
BEGIN:STANDARD
TZNAME:EST
DTSTART:20231105T020000
TZOFFSETFROM:-0400
TZOFFSETTO:-0500
RDATE:20241103T020000
END:STANDARD
BEGIN:DAYLIGHT
TZNAME:EDT
DTSTART:20230312T020000
TZOFFSETFROM:-0500
TZOFFSETTO:-0400
RDATE:20240310T020000
RDATE:20250309T020000
END:DAYLIGHT
END:VTIMEZONE
BEGIN:VEVENT
UID:bf4d4794-f241-4435-abba-c2017c4c0c00
DTSTAMP:20260419T195827Z
DESCRIPTION:Experience the high vibrations of Soca Synergy! An exciting dan
 ce fitness class where Soca music meets Afro-Caribbean-inspired choreograp
 hy that will get you moving. This FREE class is for ages 16+ and is open t
 o all levels.
DTSTART;TZID=America/New_York:20240123T110000
DTEND;TZID=America/New_York:20240123T114500
LOCATION:3415 Olinville Ave.\, Bronx\, AL 10467 US
SUMMARY:Soca Synergy
END:VEVENT
END:VCALENDAR
