BEGIN:VCALENDAR
VERSION:2.0
PRODID:-//www.mind-builders.org//NONSGML kigkonsult.se iCalcreator 2.30.10/
 /
CALSCALE:GREGORIAN
METHOD:PUBLISH
UID:6e37a725-f209-4d65-adaf-ec570d6570a6
X-WR-CALDESC:The Music Department presents: *Latin* Jazz Night!\n\nJoin us 
 for an evening of Latin Jazz\, performed by members of our very own Mind-B
 uilders Stage Band and Special Guests.\n\nThis is a FREE event. Spots are 
 limited\, please RSVP.
X-WR-RELCALID:d127e43c240d5030f40919724ef848dd
X-WR-TIMEZONE:America/New_York
BEGIN:VTIMEZONE
TZID:America/New_York
BEGIN:STANDARD
TZNAME:EST
DTSTART:20231105T020000
TZOFFSETFROM:-0400
TZOFFSETTO:-0500
RDATE:20241103T020000
END:STANDARD
BEGIN:DAYLIGHT
TZNAME:EDT
DTSTART:20230312T020000
TZOFFSETFROM:-0500
TZOFFSETTO:-0400
RDATE:20240310T020000
RDATE:20250309T020000
END:DAYLIGHT
END:VTIMEZONE
BEGIN:VEVENT
UID:c4f5f525-308a-4b5f-b9d4-eb1f4eec38ef
DTSTAMP:20260419T200211Z
DESCRIPTION:The Music Department presents: *Latin* Jazz Night!\n\nJoin us f
 or an evening of Latin Jazz\, performed by members of our very own Mind-Bu
 ilders Stage Band and Special Guests.\n\nThis is a FREE event. Spots are l
 imited\, please RSVP.
DTSTART;TZID=America/New_York:20240117T183000
DTEND;TZID=America/New_York:20240117T193000
LOCATION:Mind-Builders Creative Arts Center
SUMMARY:Jazz Night
END:VEVENT
END:VCALENDAR
