BEGIN:VCALENDAR
VERSION:2.0
PRODID:-//www.mind-builders.org//NONSGML kigkonsult.se iCalcreator 2.30.10/
 /
CALSCALE:GREGORIAN
METHOD:PUBLISH
UID:0366bcfe-621e-4007-a883-ad6cb4ac9c20
X-WR-CALDESC:Mind-Builders is closed.
X-WR-RELCALID:73e7a6f83199ceca09a1cf3978b7c31b
X-WR-TIMEZONE:America/New_York
BEGIN:VTIMEZONE
TZID:America/New_York
BEGIN:STANDARD
TZNAME:EST
DTSTART:20231105T020000
TZOFFSETFROM:-0400
TZOFFSETTO:-0500
RDATE:20241103T020000
END:STANDARD
BEGIN:DAYLIGHT
TZNAME:EDT
DTSTART:20230312T020000
TZOFFSETFROM:-0500
TZOFFSETTO:-0400
RDATE:20240310T020000
RDATE:20250309T020000
END:DAYLIGHT
END:VTIMEZONE
BEGIN:VEVENT
UID:fce22b2a-7d4a-40ac-84ec-f8f5656a2cf9
DTSTAMP:20260423T011122Z
DESCRIPTION:Mind-Builders is closed.
DTSTART;TZID=America/New_York:20231123T000000
DTEND;TZID=America/New_York:20231125T235900
LOCATION:
SUMMARY:Closed - Thanksgiving Break
END:VEVENT
END:VCALENDAR
