BEGIN:VCALENDAR
VERSION:2.0
PRODID:-//www.mind-builders.org//NONSGML kigkonsult.se iCalcreator 2.30.10/
 /
CALSCALE:GREGORIAN
METHOD:PUBLISH
UID:2ba7d86f-299d-426d-b804-3e2b78c15476
X-WR-CALDESC:We welcome back Paige Fraser's 'Dance Strong' Workshops! \n\nD
 ance Strong is a dance and movement with classes taught by experienced tea
 chers who can help students with different types of disabilities. Students
  will practice yoga\, movement\, and other activities to improve their bod
 y's movements\, balance\, concentration\, and awareness.\n\nThis program i
 s FREE of charge to community residents with dedicated sessions for 8-12 y
 ear old (Cohort 1) and 13–17 year-old (Cohort 2) students. \n\n1st Cohort 
 (Ages 8-12) meets on Wednesdays in May starting May 17th. \n(May 17\, May 
 24\, May 31)\n5:15 - 6:15pm
X-WR-RELCALID:aa96c3f4b33b4b8a214eac4cb682f371
X-WR-TIMEZONE:America/New_York
BEGIN:VTIMEZONE
TZID:America/New_York
BEGIN:STANDARD
TZNAME:EST
DTSTART:20221106T020000
TZOFFSETFROM:-0400
TZOFFSETTO:-0500
RDATE:20231105T020000
RDATE:20241103T020000
END:STANDARD
BEGIN:DAYLIGHT
TZNAME:EDT
DTSTART:20230312T020000
TZOFFSETFROM:-0500
TZOFFSETTO:-0400
RDATE:20240310T020000
END:DAYLIGHT
END:VTIMEZONE
BEGIN:VEVENT
UID:e39aa263-f5cc-49d7-bc47-9bce8d8aabe7
DTSTAMP:20260425T193712Z
DESCRIPTION:We welcome back Paige Fraser's 'Dance Strong' Workshops! \n\nDa
 nce Strong is a dance and movement with classes taught by experienced teac
 hers who can help students with different types of disabilities. Students 
 will practice yoga\, movement\, and other activities to improve their body
 's movements\, balance\, concentration\, and awareness.\n\nThis program is
  FREE of charge to community residents with dedicated sessions for 8-12 ye
 ar old (Cohort 1) and 13–17 year-old (Cohort 2) students. \n\n1st Cohort (
 Ages 8-12) meets on Wednesdays in May starting May 17th. \n(May 17\, May 2
 4\, May 31)\n5:15 - 6:15pm
DTSTART;TZID=America/New_York:20230531T171500
DTEND;TZID=America/New_York:20230531T181500
LOCATION:Mind-Builders Creative Arts Center
SUMMARY:The Paige Fraser Foundation Dance Strong Workshop Series (Cohort 1)
END:VEVENT
END:VCALENDAR
