BEGIN:VCALENDAR
VERSION:2.0
PRODID:-//www.mind-builders.org//NONSGML kigkonsult.se iCalcreator 2.30.10/
 /
CALSCALE:GREGORIAN
METHOD:PUBLISH
UID:72ec3c02-5a70-4b59-ba59-406b4e8f8a4a
X-WR-CALDESC:
X-WR-RELCALID:b2f6e210c1f608d57cd9232f245a12b8
X-WR-TIMEZONE:America/New_York
BEGIN:VTIMEZONE
TZID:America/New_York
BEGIN:STANDARD
TZNAME:EST
DTSTART:20221106T020000
TZOFFSETFROM:-0400
TZOFFSETTO:-0500
RDATE:20231105T020000
END:STANDARD
BEGIN:DAYLIGHT
TZNAME:EDT
DTSTART:20220313T020000
TZOFFSETFROM:-0500
TZOFFSETTO:-0400
RDATE:20230312T020000
RDATE:20240310T020000
END:DAYLIGHT
END:VTIMEZONE
BEGIN:VEVENT
UID:e1011f0b-6edf-4c1a-a055-b03d6e1b22b9
DTSTAMP:20260422T104324Z
DESCRIPTION:
DTSTART;TZID=America/New_York:20221124T000000
DTEND;TZID=America/New_York:20221126T235900
LOCATION:
SUMMARY:Closed - Thanksgiving Break
END:VEVENT
END:VCALENDAR
