BEGIN:VCALENDAR
VERSION:2.0
PRODID:-//www.mind-builders.org//NONSGML kigkonsult.se iCalcreator 2.30.10/
 /
CALSCALE:GREGORIAN
METHOD:PUBLISH
UID:f4386c2e-a3dd-49f7-b242-635f7233425f
X-WR-CALDESC:Have questions about our virtual and in-studio programs? Join 
 us for a Zoom Town Hall: Family Orientation\n\nMind-Builders staff will sh
 are information about the Fall 2022-Spring 2023 Season.\n\nCurrently enrol
 led families as well as prospective students and families are welcome!
X-WR-RELCALID:162c02d0e5adc7790e26db72c8ed47cb
X-WR-TIMEZONE:America/New_York
BEGIN:VTIMEZONE
TZID:America/New_York
BEGIN:STANDARD
TZNAME:EST
DTSTART:20211107T020000
TZOFFSETFROM:-0400
TZOFFSETTO:-0500
RDATE:20221106T020000
RDATE:20231105T020000
END:STANDARD
BEGIN:DAYLIGHT
TZNAME:EDT
DTSTART:20220313T020000
TZOFFSETFROM:-0500
TZOFFSETTO:-0400
RDATE:20230312T020000
RDATE:20240310T020000
END:DAYLIGHT
END:VTIMEZONE
BEGIN:VEVENT
UID:0c707c90-a3f7-4d9a-b333-fcda8fd3bc6c
DTSTAMP:20260420T042807Z
DESCRIPTION:Have questions about our virtual and in-studio programs? Join u
 s for a Zoom Town Hall: Family Orientation\n\nMind-Builders staff will sha
 re information about the Fall 2022-Spring 2023 Season.\n\nCurrently enroll
 ed families as well as prospective students and families are welcome!
DTSTART;TZID=America/New_York:20221019T190000
DTEND;TZID=America/New_York:20221019T200000
LOCATION:Zoom link to be posted
SUMMARY:Virtual Town Hall Family Orientation
END:VEVENT
END:VCALENDAR
