BEGIN:VCALENDAR
VERSION:2.0
PRODID:-//www.mind-builders.org//NONSGML kigkonsult.se iCalcreator 2.30.10/
 /
CALSCALE:GREGORIAN
METHOD:PUBLISH
UID:6cec0a71-ff82-496b-b39d-db3fcd77a1b1
X-WR-CALDESC:Join us for our Annual Open House Street Festival!\n\nFree dem
 o classes in music\, dance and karate\nAfrican art and building tours\nRaf
 fle prizes\nVendors\nYouth Talent Contest- come out and make some noise! T
 he audience chooses the winner!\n\nThis special event is sponsored by Assu
 red Partners\, D'Addario\, doTerra\, Knit Picks\, and Oriental Trading.\n
 \n
X-WR-RELCALID:9a3315c7f7a5f76dbba01c3766ed847a
X-WR-TIMEZONE:America/New_York
BEGIN:VTIMEZONE
TZID:America/New_York
BEGIN:STANDARD
TZNAME:EST
DTSTART:20211107T020000
TZOFFSETFROM:-0400
TZOFFSETTO:-0500
RDATE:20221106T020000
RDATE:20231105T020000
END:STANDARD
BEGIN:DAYLIGHT
TZNAME:EDT
DTSTART:20220313T020000
TZOFFSETFROM:-0500
TZOFFSETTO:-0400
RDATE:20230312T020000
RDATE:20240310T020000
END:DAYLIGHT
END:VTIMEZONE
BEGIN:VEVENT
UID:fdcced28-2003-459f-81d9-37d0948bb6e7
DTSTAMP:20260424T065021Z
DESCRIPTION:Join us for our Annual Open House Street Festival!\n\nFree demo
  classes in music\, dance and karate\nAfrican art and building tours\nRaff
 le prizes\nVendors\nYouth Talent Contest- come out and make some noise! Th
 e audience chooses the winner!\n\nThis special event is sponsored by Assur
 ed Partners\, D'Addario\, doTerra\, Knit Picks\, and Oriental Trading.\n\n
DTSTART;TZID=America/New_York:20220917T100000
DTEND;TZID=America/New_York:20220917T180000
LOCATION:Mind-Builders Creative Arts Center\, 3415 Olinville Avenue\, Bronx
 \, NY 10467 US
SUMMARY:Open House Street Festival
END:VEVENT
END:VCALENDAR
