BEGIN:VCALENDAR
VERSION:2.0
PRODID:-//www.mind-builders.org//NONSGML kigkonsult.se iCalcreator 2.30.10/
 /
CALSCALE:GREGORIAN
METHOD:PUBLISH
UID:52f274a7-752c-40db-9100-1dfe615f37ea
X-WR-CALDESC:
X-WR-RELCALID:e5cb121f7ea058a84a08ea34caa0e0dc
X-WR-TIMEZONE:America/New_York
BEGIN:VTIMEZONE
TZID:America/New_York
BEGIN:STANDARD
TZNAME:EST
DTSTART:20211107T020000
TZOFFSETFROM:-0400
TZOFFSETTO:-0500
RDATE:20221106T020000
RDATE:20231105T020000
END:STANDARD
BEGIN:DAYLIGHT
TZNAME:EDT
DTSTART:20220313T020000
TZOFFSETFROM:-0500
TZOFFSETTO:-0400
RDATE:20230312T020000
END:DAYLIGHT
END:VTIMEZONE
BEGIN:VEVENT
UID:a7844c02-6fa0-4576-98e6-cf07dc391a6f
DTSTAMP:20260420T102035Z
DESCRIPTION:
DTSTART;TZID=America/New_York:20220627T000000
DTEND;TZID=America/New_York:20220627T235900
LOCATION:
SUMMARY:PreK last day of school
END:VEVENT
END:VCALENDAR
