BEGIN:VCALENDAR
VERSION:2.0
PRODID:-//www.mind-builders.org//NONSGML kigkonsult.se iCalcreator 2.30.10/
 /
CALSCALE:GREGORIAN
METHOD:PUBLISH
UID:8739bdba-a580-4e2b-b226-7b94657cea5f
X-WR-CALDESC:Color My World\n\nDance Department Recitals\n\n2:30pm and 6pm\
 , depending on class(es)
X-WR-RELCALID:006ed080022693999fadbbbca95687dc
X-WR-TIMEZONE:America/New_York
BEGIN:VTIMEZONE
TZID:America/New_York
BEGIN:STANDARD
TZNAME:EST
DTSTART:20211107T020000
TZOFFSETFROM:-0400
TZOFFSETTO:-0500
RDATE:20221106T020000
RDATE:20231105T020000
END:STANDARD
BEGIN:DAYLIGHT
TZNAME:EDT
DTSTART:20220313T020000
TZOFFSETFROM:-0500
TZOFFSETTO:-0400
RDATE:20230312T020000
END:DAYLIGHT
END:VTIMEZONE
BEGIN:VEVENT
UID:aa87d4f0-232e-4a29-9e97-1df2d3ee6108
DTSTAMP:20260420T132502Z
DESCRIPTION:Color My World\n\nDance Department Recitals\n\n2:30pm and 6pm\,
  depending on class(es)
DTSTART;TZID=America/New_York:20220515T143000
DTEND;TZID=America/New_York:20220515T190000
LOCATION:Evander Childs High School \, 800 E Gun Hill Rd\, Bronx\, NY 10467
  US
SUMMARY:Dance Recitals
END:VEVENT
END:VCALENDAR
