BEGIN:VCALENDAR
VERSION:2.0
PRODID:-//www.mind-builders.org//NONSGML kigkonsult.se iCalcreator 2.30.10/
 /
CALSCALE:GREGORIAN
METHOD:PUBLISH
UID:273173b3-4071-4f80-aa1f-a0cba9f8d7df
X-WR-CALDESC:Fall 2022 registration deadline for PreK.
X-WR-RELCALID:a3c1f3ab93efbaca246efedb849d99dd
X-WR-TIMEZONE:America/New_York
BEGIN:VTIMEZONE
TZID:America/New_York
BEGIN:STANDARD
TZNAME:EST
DTSTART:20211107T020000
TZOFFSETFROM:-0400
TZOFFSETTO:-0500
RDATE:20221106T020000
END:STANDARD
BEGIN:DAYLIGHT
TZNAME:EDT
DTSTART:20220313T020000
TZOFFSETFROM:-0500
TZOFFSETTO:-0400
RDATE:20230312T020000
END:DAYLIGHT
END:VTIMEZONE
BEGIN:VEVENT
UID:e4398cc5-99f7-4f30-8eac-22e6c63104bb
DTSTAMP:20260425T160042Z
DESCRIPTION:Fall 2022 registration deadline for PreK.
DTSTART;TZID=America/New_York:20220318T000000
DTEND;TZID=America/New_York:20220318T235900
LOCATION:
SUMMARY:Registration deadline for PreK
END:VEVENT
END:VCALENDAR
