BEGIN:VCALENDAR
VERSION:2.0
PRODID:-//www.mind-builders.org//NONSGML kigkonsult.se iCalcreator 2.30.10/
 /
CALSCALE:GREGORIAN
METHOD:PUBLISH
UID:2a50809c-33b8-4640-bf22-ff7bc0246818
X-WR-CALDESC:Receive the free Pfizer vaccine at Mind-Builders.\n\n$100 gift
  card for first timers.\n\nAnyone ages 12 and older can receive the vaccin
 e from the New York Health + Hospitals Mobile Vaccine Unit.\n\nNo appointm
 ent needed! Mobile Unit will be in front of Mind-Builders.
X-WR-RELCALID:cf5a2e63f4679db6148a379b5eef4b55
X-WR-TIMEZONE:America/New_York
BEGIN:VTIMEZONE
TZID:America/New_York
BEGIN:STANDARD
TZNAME:EST
DTSTART:20211107T020000
TZOFFSETFROM:-0400
TZOFFSETTO:-0500
RDATE:20221106T020000
END:STANDARD
BEGIN:DAYLIGHT
TZNAME:EDT
DTSTART:20210314T020000
TZOFFSETFROM:-0500
TZOFFSETTO:-0400
RDATE:20220313T020000
RDATE:20230312T020000
END:DAYLIGHT
END:VTIMEZONE
BEGIN:VEVENT
UID:c66870f9-563e-4f1a-85ec-fc6957e41d84
DTSTAMP:20260424T162634Z
DESCRIPTION:Receive the free Pfizer vaccine at Mind-Builders.\n\n$100 gift 
 card for first timers.\n\nAnyone ages 12 and older can receive the vaccine
  from the New York Health + Hospitals Mobile Vaccine Unit.\n\nNo appointme
 nt needed! Mobile Unit will be in front of Mind-Builders.
DTSTART;TZID=America/New_York:20211106T060000
DTEND;TZID=America/New_York:20211106T180000
LOCATION:3415 Olinville Avenue\, Bronx\, NY 10467 US
SUMMARY:Mobile Vaccination Unit
END:VEVENT
END:VCALENDAR
