BEGIN:VCALENDAR
VERSION:2.0
PRODID:-//www.mind-builders.org//NONSGML kigkonsult.se iCalcreator 2.30.10/
 /
CALSCALE:GREGORIAN
METHOD:PUBLISH
UID:c0e3f533-853d-4222-b855-48f5d5f269d5
X-WR-CALDESC:Merit Scholarship & Pre-Professional Workshop Auditions\n\nMer
 it: Achieve high levels of technique and performance skills! Merit Scholar
 s trained to assist the dance teachers.\nPre-Professional: Experience and 
 training focused on learning repertory and advanced techniques. Participan
 ts perform publicly.\n\nAges 10-17 or in grades 5-11. \n\nAdditional audit
 ions are being held on 9/29\, 10/9\, 10/16.\n
X-WR-RELCALID:e467c35828eef3e7938196b7df2a5f13
X-WR-TIMEZONE:America/New_York
BEGIN:VTIMEZONE
TZID:America/New_York
BEGIN:STANDARD
TZNAME:EST
DTSTART:20201101T020000
TZOFFSETFROM:-0400
TZOFFSETTO:-0500
RDATE:20211107T020000
RDATE:20221106T020000
END:STANDARD
BEGIN:DAYLIGHT
TZNAME:EDT
DTSTART:20210314T020000
TZOFFSETFROM:-0500
TZOFFSETTO:-0400
RDATE:20220313T020000
RDATE:20230312T020000
END:DAYLIGHT
END:VTIMEZONE
BEGIN:VEVENT
UID:eef5c283-9009-4120-b0d2-169a1a2baba7
DTSTAMP:20260420T040445Z
DESCRIPTION:Merit Scholarship & Pre-Professional Workshop Auditions\n\nMeri
 t: Achieve high levels of technique and performance skills! Merit Scholars
  trained to assist the dance teachers.\nPre-Professional: Experience and t
 raining focused on learning repertory and advanced techniques. Participant
 s perform publicly.\n\nAges 10-17 or in grades 5-11. \n\nAdditional auditi
 ons are being held on 9/29\, 10/9\, 10/16.\n
DTSTART;TZID=America/New_York:20210925T163000
DTEND;TZID=America/New_York:20210925T183000
LOCATION:
SUMMARY:Merit Scholarship & Pre-Professional Workshop Auditions
END:VEVENT
END:VCALENDAR
