BEGIN:VCALENDAR
VERSION:2.0
PRODID:-//www.mind-builders.org//NONSGML kigkonsult.se iCalcreator 2.30.10/
 /
CALSCALE:GREGORIAN
METHOD:PUBLISH
UID:9c4ea769-c4e6-44d2-a7da-a5e0b38a708d
X-WR-CALDESC:
X-WR-RELCALID:b218e0b92231e22e82f89f80bd91cbcb
X-WR-TIMEZONE:America/New_York
BEGIN:VTIMEZONE
TZID:America/New_York
BEGIN:STANDARD
TZNAME:EST
DTSTART:20201101T020000
TZOFFSETFROM:-0400
TZOFFSETTO:-0500
RDATE:20211107T020000
RDATE:20221106T020000
END:STANDARD
BEGIN:DAYLIGHT
TZNAME:EDT
DTSTART:20210314T020000
TZOFFSETFROM:-0500
TZOFFSETTO:-0400
RDATE:20220313T020000
RDATE:20230312T020000
END:DAYLIGHT
END:VTIMEZONE
BEGIN:VEVENT
UID:6d31c4da-2464-4164-978b-c104ded9fd9a
DTSTAMP:20260420T085735Z
DESCRIPTION:
DTSTART;TZID=America/New_York:20210913T000000
DTEND;TZID=America/New_York:20210913T235900
LOCATION:
SUMMARY:PreK first day of school
END:VEVENT
END:VCALENDAR
