BEGIN:VCALENDAR
VERSION:2.0
PRODID:-//www.mind-builders.org//NONSGML kigkonsult.se iCalcreator 2.30.10/
 /
CALSCALE:GREGORIAN
METHOD:PUBLISH
UID:57f1a5c5-eff9-4d18-ad09-4158e69c7e9a
X-WR-CALDESC:There will be no Dance\, Music\, or Karate classes during this
  time.  Classes resume Tuesday January 5th 2021.
X-WR-RELCALID:76d0a391e53f3baf1f23d89d76ec4adc
X-WR-TIMEZONE:America/New_York
BEGIN:VTIMEZONE
TZID:America/New_York
BEGIN:STANDARD
TZNAME:EST
DTSTART:20201101T020000
TZOFFSETFROM:-0400
TZOFFSETTO:-0500
RDATE:20211107T020000
END:STANDARD
BEGIN:DAYLIGHT
TZNAME:EDT
DTSTART:20200308T020000
TZOFFSETFROM:-0500
TZOFFSETTO:-0400
RDATE:20210314T020000
RDATE:20220313T020000
END:DAYLIGHT
END:VTIMEZONE
BEGIN:VEVENT
UID:4712cafd-c3f0-468d-9691-b3f8d49824f7
DTSTAMP:20260419T124540Z
DESCRIPTION:There will be no Dance\, Music\, or Karate classes during this 
 time.  Classes resume Tuesday January 5th 2021.
DTSTART;TZID=America/New_York:20201222T000000
DTEND;TZID=America/New_York:20210102T235900
LOCATION:
SUMMARY:Winter Break - No Dance\, Music\, and Karate Classes
END:VEVENT
END:VCALENDAR
