BEGIN:VCALENDAR
VERSION:2.0
PRODID:-//www.mind-builders.org//NONSGML kigkonsult.se iCalcreator 2.30.10/
 /
CALSCALE:GREGORIAN
METHOD:PUBLISH
UID:67b77f7a-f3bf-47d8-a1d4-cbbf9ef052dd
X-WR-CALDESC:Dance\, Music\, Martial Arts Folk Culture and Musical Theater.
X-WR-RELCALID:9199387a7a17e7814f0978b0435fa28a
X-WR-TIMEZONE:America/New_York
BEGIN:VTIMEZONE
TZID:America/New_York
BEGIN:STANDARD
TZNAME:EST
DTSTART:20191103T020000
TZOFFSETFROM:-0400
TZOFFSETTO:-0500
RDATE:20201101T020000
RDATE:20211107T020000
END:STANDARD
BEGIN:DAYLIGHT
TZNAME:EDT
DTSTART:20200308T020000
TZOFFSETFROM:-0500
TZOFFSETTO:-0400
RDATE:20210314T020000
END:DAYLIGHT
END:VTIMEZONE
BEGIN:VEVENT
UID:20c98261-d7b6-46a8-9a5a-686a6e73c1e7
DTSTAMP:20260422T173716Z
DESCRIPTION:Dance\, Music\, Martial Arts Folk Culture and Musical Theater.
DTSTART;TZID=America/New_York:20200813T013000
DTEND;TZID=America/New_York:20200813T023000
LOCATION:
SUMMARY:First Day of Summer Classes
END:VEVENT
END:VCALENDAR
