BEGIN:VCALENDAR
VERSION:2.0
PRODID:-//www.mind-builders.org//NONSGML kigkonsult.se iCalcreator 2.30.10/
 /
CALSCALE:GREGORIAN
METHOD:PUBLISH
UID:26d47087-a054-479d-8737-151bc68f20ab
X-WR-CALDESC:Updated information will follow at a later date.
X-WR-RELCALID:9f632c8130aeef732afe51f1391e171d
X-WR-TIMEZONE:America/New_York
BEGIN:VTIMEZONE
TZID:America/New_York
BEGIN:STANDARD
TZNAME:EST
DTSTART:20191103T020000
TZOFFSETFROM:-0400
TZOFFSETTO:-0500
RDATE:20201101T020000
RDATE:20211107T020000
END:STANDARD
BEGIN:DAYLIGHT
TZNAME:EDT
DTSTART:20200308T020000
TZOFFSETFROM:-0500
TZOFFSETTO:-0400
RDATE:20210314T020000
END:DAYLIGHT
END:VTIMEZONE
BEGIN:VEVENT
UID:6b62337e-6220-42fb-8455-c5ed7874d002
DTSTAMP:20260423T123953Z
DESCRIPTION:Updated information will follow at a later date.
DTSTART;TZID=America/New_York:20200508T150000
DTEND;TZID=America/New_York:20200510T200000
LOCATION:
SUMMARY:POSTPONED - Positive Youth Troupe Final Performance
END:VEVENT
END:VCALENDAR
